BEGIN:VCALENDAR
VERSION:2.0
PRODID:-//Chisago Age Well - ECPv6.15.20//NONSGML v1.0//EN
CALSCALE:GREGORIAN
METHOD:PUBLISH
X-WR-CALNAME:Chisago Age Well
X-ORIGINAL-URL:https://chisagoagewell.org
X-WR-CALDESC:Events for Chisago Age Well
REFRESH-INTERVAL;VALUE=DURATION:PT1H
X-Robots-Tag:noindex
X-PUBLISHED-TTL:PT1H
BEGIN:VTIMEZONE
TZID:America/Chicago
BEGIN:DAYLIGHT
TZOFFSETFROM:-0600
TZOFFSETTO:-0500
TZNAME:CDT
DTSTART:20230312T080000
END:DAYLIGHT
BEGIN:STANDARD
TZOFFSETFROM:-0500
TZOFFSETTO:-0600
TZNAME:CST
DTSTART:20231105T070000
END:STANDARD
BEGIN:DAYLIGHT
TZOFFSETFROM:-0600
TZOFFSETTO:-0500
TZNAME:CDT
DTSTART:20240310T080000
END:DAYLIGHT
BEGIN:STANDARD
TZOFFSETFROM:-0500
TZOFFSETTO:-0600
TZNAME:CST
DTSTART:20241103T070000
END:STANDARD
BEGIN:DAYLIGHT
TZOFFSETFROM:-0600
TZOFFSETTO:-0500
TZNAME:CDT
DTSTART:20250309T080000
END:DAYLIGHT
BEGIN:STANDARD
TZOFFSETFROM:-0500
TZOFFSETTO:-0600
TZNAME:CST
DTSTART:20251102T070000
END:STANDARD
BEGIN:DAYLIGHT
TZOFFSETFROM:-0600
TZOFFSETTO:-0500
TZNAME:CDT
DTSTART:20260308T080000
END:DAYLIGHT
BEGIN:STANDARD
TZOFFSETFROM:-0500
TZOFFSETTO:-0600
TZNAME:CST
DTSTART:20261101T070000
END:STANDARD
BEGIN:DAYLIGHT
TZOFFSETFROM:-0600
TZOFFSETTO:-0500
TZNAME:CDT
DTSTART:20270314T080000
END:DAYLIGHT
BEGIN:STANDARD
TZOFFSETFROM:-0500
TZOFFSETTO:-0600
TZNAME:CST
DTSTART:20271107T070000
END:STANDARD
END:VTIMEZONE
BEGIN:VEVENT
DTSTART;TZID=America/Chicago:20260212T180000
DTEND;TZID=America/Chicago:20260212T210000
DTSTAMP:20260423T092725
CREATED:20260109T220856Z
LAST-MODIFIED:20260109T222101Z
UID:2279-1770919200-1770930000@chisagoagewell.org
SUMMARY:Taste of Chisago Lakes- A Fundraiser for Chisago Age Well and CL Rotary
DESCRIPTION:Join us\, as we kick of Celebration of the Lakes\, for a fun and fantastic night of sampling some of the best local cuisine the Chisago Lakes Community has to offer! Guests will vote for their favorites! All proceeds will benefit the community through the work of Chisago Lakes Rotary and The Chisago Age Well Coalition. \n  \n\n\n\n6pm Doors Open- Tasting and voting \n\n\n7pm Magician Comedian Alan Smola \n\n\n8pm Games & Prizes; Awards Announced \n\n\n\n\nTickets $50 each. \n\n\n\nFor tickets\, or more information\, please contact Alisa at 651-257-7631. For event updates\, scan the QR Code\, or visit http://www.chisagolakesrotary.org/upcoming-events.html
URL:https://chisagoagewell.org/events/taste-of-chisago-lakes-a-fundraiser-for-chisago-age-well-and-cl-rotary/
LOCATION:The Uncommon Loon\, 10825 Lake Blvd\, Chisago City\, MN\, 55013\, United States
CATEGORIES:Community Events
END:VEVENT
BEGIN:VEVENT
DTSTART;TZID=America/Chicago:20250812T140000
DTEND;TZID=America/Chicago:20250812T150000
DTSTAMP:20260423T092725
CREATED:20250721T204716Z
LAST-MODIFIED:20250721T205248Z
UID:2245-1755007200-1755010800@chisagoagewell.org
SUMMARY:How to Be a Healthy Caregiver
DESCRIPTION:Aug 12 at 2pm Lindstrom Senior Living \n8.12.25 Lindstrom class
URL:https://chisagoagewell.org/events/2245/
LOCATION:Lindstrom Senior Living\, 30455 Lehigh Ave\, Lindstrom\, MN\, 55045\, United States
CATEGORIES:Community Events
END:VEVENT
BEGIN:VEVENT
DTSTART;TZID=America/Chicago:20250806T170000
DTEND;TZID=America/Chicago:20250806T190000
DTSTAMP:20260423T092725
CREATED:20250721T210106Z
LAST-MODIFIED:20250721T210106Z
UID:2253-1754499600-1754506800@chisagoagewell.org
SUMMARY:19th Annual Car Show at Meadows on Fairview
DESCRIPTION:  \nJOIN US FOR A SUMMER TRADITION!\nEnjoy classic cars\, refreshments\, community tours and live music by Gary LaRue. Vote for your favorite car. Prizes awarded for “People’s Choice Award\,” and door prizes.Free admission for all attendees!\n\nClassic cars built in the 1980s or earlier showcase the design\, craftmanship and spirt of the era. Restored or original\, they’re admired for their beauty\, performance\, and nostalgic appeal.\n\nWEDNESDAY\, AUGUST 6\, 20255:00 – 7:00 PM\n\nEVENT LOCATION25565 Fairview Avenue\, Wyoming\, MN 55092\n\nFREE CAR REGISTRATIONTo register your classic vehicle\, please call 651-466-1304 by July 31.
URL:https://chisagoagewell.org/events/19th-annual-car-show-at-meadows-on-fairview/
LOCATION:The Meadows on Fairview\, 25565 FAIRVIEW AVE\, Wyoming\, 55092\, United States
CATEGORIES:Community Events
END:VEVENT
BEGIN:VEVENT
DTSTART;TZID=America/Chicago:20241119T100000
DTEND;TZID=America/Chicago:20241119T113000
DTSTAMP:20260423T092725
CREATED:20241113T151528Z
LAST-MODIFIED:20241113T192920Z
UID:2131-1732010400-1732015800@chisagoagewell.org
SUMMARY:How to Be A Healthy Caregiver Through the Holidays
DESCRIPTION:Aging workshop presented by Collette Colucci\, Family Pathways Caregiver Consultant/Educator \nDate:  Tuesday\, November 19th \nTime: 10:00am-11:30am \nLocation: Meadow View Apartments Community Room\n5430 Meadow Lane\, Wyoming\, MN 55092 \nFree Refreshments & Door Prizes! \nRegistration Required:  To register for the workshop\, please call Kim at 651-466-1304 \nCaring through the Holidays – Meadows
URL:https://chisagoagewell.org/events/how-to-be-a-healthy-caregiver-through-the-holidays/
LOCATION:The Meadows on Fairview\, 25565 FAIRVIEW AVE\, Wyoming\, 55092\, United States
CATEGORIES:Community Events
END:VEVENT
BEGIN:VEVENT
DTSTART;TZID=America/Chicago:20240731T183000
DTEND;TZID=America/Chicago:20240731T203000
DTSTAMP:20260423T092725
CREATED:20240705T162327Z
LAST-MODIFIED:20240705T163222Z
UID:2102-1722450600-1722457800@chisagoagewell.org
SUMMARY:Harmony in the Park Health Fair & Age Well Night
DESCRIPTION:Join Chisago Age Well at Harmony in the Park on Wednesday\, July 31st for Health Fair & Age Well Night!  Listen to “Absolutely ELVIS” and visit the Chisago Age Well Table for Resources and Information on living and aging well in Chisago County. \n 
URL:https://chisagoagewell.org/events/2102/
LOCATION:Lindstrom Lions Park\, 13292 Sylvan Ave\, Lindstrom\, Minnesota\, 55045\, United States
CATEGORIES:Community Events
END:VEVENT
BEGIN:VEVENT
DTSTART;TZID=America/Chicago:20240724T183000
DTEND;TZID=America/Chicago:20240724T203000
DTSTAMP:20260423T092725
CREATED:20240705T162101Z
LAST-MODIFIED:20240705T162101Z
UID:2098-1721845800-1721853000@chisagoagewell.org
SUMMARY:Harmony in the Park- Non Profit Night
DESCRIPTION:Join Chisago Age Well at Harmony in the Park on Wednesday\, July 24th for Non-Profit Night!  Listen to “Transit Authority” (Chicago Tribute Band) and visit the Chisago Age Well Table for Resources and Information on living and aging well in Chisago County.
URL:https://chisagoagewell.org/events/harmony-in-the-park-non-profit-night/
LOCATION:Lindstrom Lions Park\, 13292 Sylvan Ave\, Lindstrom\, Minnesota\, 55045\, United States
CATEGORIES:Community Events
END:VEVENT
BEGIN:VEVENT
DTSTART;TZID=America/Chicago:20240227T140000
DTEND;TZID=America/Chicago:20240227T160000
DTSTAMP:20260423T092725
CREATED:20240108T003806Z
LAST-MODIFIED:20240129T000018Z
UID:1976-1709042400-1709049600@chisagoagewell.org
SUMMARY:Medicare 101- Virtual or in Person
DESCRIPTION:Medicare 101 \nThis free in-person or on-line presentation is helpful for Medicare beneficiaries\, family members of loved ones on Medicare\, and professionals working with Medicare beneficiaries. Certificate of attendance available upon request at the time of completion for CEU. \nRegistration Link: https://www.eventbrite.com/e/medicare-101-online-or-in-person-class-at-whitney-senior-center-tickets-777645246867
URL:https://chisagoagewell.org/events/medicare-101-virtual-or-in-person/
LOCATION:MN
CATEGORIES:Community Events
ORGANIZER;CN="CMCOA":MAILTO:lori@cmcoa.org
END:VEVENT
END:VCALENDAR