BEGIN:VCALENDAR
VERSION:2.0
PRODID:-//Chisago Age Well - ECPv6.15.20//NONSGML v1.0//EN
CALSCALE:GREGORIAN
METHOD:PUBLISH
X-ORIGINAL-URL:https://chisagoagewell.org
X-WR-CALDESC:Events for Chisago Age Well
REFRESH-INTERVAL;VALUE=DURATION:PT1H
X-Robots-Tag:noindex
X-PUBLISHED-TTL:PT1H
BEGIN:VTIMEZONE
TZID:America/Chicago
BEGIN:DAYLIGHT
TZOFFSETFROM:-0600
TZOFFSETTO:-0500
TZNAME:CDT
DTSTART:20230312T080000
END:DAYLIGHT
BEGIN:STANDARD
TZOFFSETFROM:-0500
TZOFFSETTO:-0600
TZNAME:CST
DTSTART:20231105T070000
END:STANDARD
BEGIN:DAYLIGHT
TZOFFSETFROM:-0600
TZOFFSETTO:-0500
TZNAME:CDT
DTSTART:20240310T080000
END:DAYLIGHT
BEGIN:STANDARD
TZOFFSETFROM:-0500
TZOFFSETTO:-0600
TZNAME:CST
DTSTART:20241103T070000
END:STANDARD
BEGIN:DAYLIGHT
TZOFFSETFROM:-0600
TZOFFSETTO:-0500
TZNAME:CDT
DTSTART:20250309T080000
END:DAYLIGHT
BEGIN:STANDARD
TZOFFSETFROM:-0500
TZOFFSETTO:-0600
TZNAME:CST
DTSTART:20251102T070000
END:STANDARD
BEGIN:DAYLIGHT
TZOFFSETFROM:-0600
TZOFFSETTO:-0500
TZNAME:CDT
DTSTART:20260308T080000
END:DAYLIGHT
BEGIN:STANDARD
TZOFFSETFROM:-0500
TZOFFSETTO:-0600
TZNAME:CST
DTSTART:20261101T070000
END:STANDARD
END:VTIMEZONE
BEGIN:VEVENT
DTSTART;TZID=America/Chicago:20251017T090000
DTEND;TZID=America/Chicago:20251017T130000
DTSTAMP:20260423T092914
CREATED:20250707T220616Z
LAST-MODIFIED:20250810T232011Z
UID:2235-1760691600-1760706000@chisagoagewell.org
SUMMARY:2025 Chisago Age Well Expo
DESCRIPTION:Come Join us for our 6th Annual Chisago Age Well Expo on Friday\, October 17th .  This is a FREE EVENT! Open to the Public.  Vendor Tables\, Resources\, Education\, Entertainment\, Food\, a Health Fair and a Vaccine Clinic! \n \n  \nIf you are interested in being a vendor for this event\, (Must Provide Health\, Wellness\, Volunteer\, Vocational\, Social\, Intellectual or Spiritual Opportunities for Older adults in Chisago County)  click here:  2025 CAW vendor Letter.docx  \nAny questions- contact Emily at emilyc@chisagoagewell.org \n 
URL:https://chisagoagewell.org/events/2025-chisago-age-well-expo/
LOCATION:Chisago Lakes High School PAC\, 29400 Olinda Trail\, Lindstrom\, Minnesota\, 55045\, United States
CATEGORIES:Age Well Expo
END:VEVENT
BEGIN:VEVENT
DTSTART;TZID=America/Chicago:20241018T090000
DTEND;TZID=America/Chicago:20241018T130000
DTSTAMP:20260423T092914
CREATED:20230723T231133Z
LAST-MODIFIED:20241002T002920Z
UID:1451-1729242000-1729256400@chisagoagewell.org
SUMMARY:2024 Chisago Age Well Expo
DESCRIPTION:Our annual Age Well Expo is a place for older adults to find resources and information on services and opportunities within Chisago County.  In past years we have had as many as 70 vendors\, and up to 300 attendees.  \nThe 2024 Age Well Expo Keynote speaker is Steve Hoover with Central MN Council on Aging\, on the topic “Flourishing in the Second Half of Life!”  \nIf you are a provider and would like to register for a vendor table\, please email EmilyC@Chisagoagewell.org to register. \n \n  \nClick HERE for Vendor Information and Registration!
URL:https://chisagoagewell.org/events/2023-chisago-age-well-expo/
LOCATION:Chisago Lakes High School PAC\, 29400 Olinda Trail\, Lindstrom\, Minnesota\, 55045\, United States
CATEGORIES:Age Well Expo
END:VEVENT
END:VCALENDAR